BEGIN:VCALENDAR
VERSION:2.0
PRODID:-//Covenant Presbyterian Church - ECPv6.15.20//NONSGML v1.0//EN
CALSCALE:GREGORIAN
METHOD:PUBLISH
X-ORIGINAL-URL:https://cpcsebring.org
X-WR-CALDESC:Events for Covenant Presbyterian Church
REFRESH-INTERVAL;VALUE=DURATION:PT1H
X-Robots-Tag:noindex
X-PUBLISHED-TTL:PT1H
BEGIN:VTIMEZONE
TZID:America/Detroit
BEGIN:DAYLIGHT
TZOFFSETFROM:-0500
TZOFFSETTO:-0400
TZNAME:EDT
DTSTART:20250309T070000
END:DAYLIGHT
BEGIN:STANDARD
TZOFFSETFROM:-0400
TZOFFSETTO:-0500
TZNAME:EST
DTSTART:20251102T060000
END:STANDARD
BEGIN:DAYLIGHT
TZOFFSETFROM:-0500
TZOFFSETTO:-0400
TZNAME:EDT
DTSTART:20260308T070000
END:DAYLIGHT
BEGIN:STANDARD
TZOFFSETFROM:-0400
TZOFFSETTO:-0500
TZNAME:EST
DTSTART:20261101T060000
END:STANDARD
BEGIN:DAYLIGHT
TZOFFSETFROM:-0500
TZOFFSETTO:-0400
TZNAME:EDT
DTSTART:20270314T070000
END:DAYLIGHT
BEGIN:STANDARD
TZOFFSETFROM:-0400
TZOFFSETTO:-0500
TZNAME:EST
DTSTART:20271107T060000
END:STANDARD
END:VTIMEZONE
BEGIN:VEVENT
DTSTART;TZID=America/Detroit:20261202T170000
DTEND;TZID=America/Detroit:20261202T170000
DTSTAMP:20260422T215728
CREATED:20260414T161157Z
LAST-MODIFIED:20260414T161652Z
UID:1184-1796230800-1796230800@cpcsebring.org
SUMMARY:Choir Practice
DESCRIPTION:For any questions\, please contact Rhoda Wolfe at rhoda.e.wolfe@gmail.com \n\n\n\n\n\n 
URL:https://cpcsebring.org/calendar/choir-practice-32/
LOCATION:Covenant Church
END:VEVENT
BEGIN:VEVENT
DTSTART;TZID=America/Detroit:20261202T180000
DTEND;TZID=America/Detroit:20261202T180000
DTSTAMP:20260422T215728
CREATED:20260414T162549Z
LAST-MODIFIED:20260414T162656Z
UID:1212-1796234400-1796234400@cpcsebring.org
SUMMARY:Covered Dish
DESCRIPTION:Please Bring a dish to share
URL:https://cpcsebring.org/calendar/covered-dish-8/
LOCATION:Covenant Life Center
END:VEVENT
BEGIN:VEVENT
DTSTART;TZID=America/Detroit:20261202T180000
DTEND;TZID=America/Detroit:20261202T180000
DTSTAMP:20260422T215728
CREATED:20260414T163522Z
LAST-MODIFIED:20260414T164602Z
UID:1229-1796234400-1796234400@cpcsebring.org
SUMMARY:JAM (Jesus and Me)
DESCRIPTION:
URL:https://cpcsebring.org/calendar/jam-jesus-and-me-31/
LOCATION:Covenant Life Center
END:VEVENT
BEGIN:VEVENT
DTSTART;TZID=America/Detroit:20261202T190000
DTEND;TZID=America/Detroit:20261202T190000
DTSTAMP:20260422T215728
CREATED:20260414T164846Z
LAST-MODIFIED:20260414T165347Z
UID:1259-1796238000-1796238000@cpcsebring.org
SUMMARY:Covenant Ringers
DESCRIPTION:The Covenant Ringers\, our new bell ensemble\, rehearses at 7pm till 8pm on Wednesdays in the CLC. \nContact Denise Anderson for info!  andmusic.55@gmail.com \n 
URL:https://cpcsebring.org/calendar/covenant-ringers-35/
LOCATION:Covenant Life Center
END:VEVENT
BEGIN:VEVENT
DTSTART;TZID=America/Detroit:20261203T080000
DTEND;TZID=America/Detroit:20261203T080000
DTSTAMP:20260422T215728
CREATED:20260414T160149Z
LAST-MODIFIED:20260414T160319Z
UID:1139-1796284800-1796284800@cpcsebring.org
SUMMARY:Men's Prayer Breakfast & Bible Study
DESCRIPTION:  \n 
URL:https://cpcsebring.org/calendar/mens-prayer-breakfast-bible-study-18-2/
LOCATION:Oscar’s Restaurant\, Oscar's Restaurant\, Sebring\, FL\, 33870\, United States
END:VEVENT
BEGIN:VEVENT
DTSTART;TZID=America/Detroit:20261206T103000
DTEND;TZID=America/Detroit:20261206T103000
DTSTAMP:20260422T215728
CREATED:20260414T155149Z
LAST-MODIFIED:20260414T155236Z
UID:1111-1796553000-1796553000@cpcsebring.org
SUMMARY:Sunday Services
DESCRIPTION:Come worship with us!
URL:https://cpcsebring.org/calendar/sunday-services-30/
LOCATION:Covenant Church
END:VEVENT
BEGIN:VEVENT
DTSTART;TZID=America/Detroit:20261209T170000
DTEND;TZID=America/Detroit:20261209T170000
DTSTAMP:20260422T215728
CREATED:20260414T161205Z
LAST-MODIFIED:20260414T161656Z
UID:1186-1796835600-1796835600@cpcsebring.org
SUMMARY:Choir Practice
DESCRIPTION:For any questions\, please contact Rhoda Wolfe at rhoda.e.wolfe@gmail.com \n\n\n\n\n\n 
URL:https://cpcsebring.org/calendar/choir-practice-33/
LOCATION:Covenant Church
END:VEVENT
BEGIN:VEVENT
DTSTART;TZID=America/Detroit:20261209T180000
DTEND;TZID=America/Detroit:20261209T180000
DTSTAMP:20260422T215728
CREATED:20260414T163530Z
LAST-MODIFIED:20260414T164607Z
UID:1231-1796839200-1796839200@cpcsebring.org
SUMMARY:JAM (Jesus and Me)
DESCRIPTION:
URL:https://cpcsebring.org/calendar/jam-jesus-and-me-32/
LOCATION:Covenant Life Center
END:VEVENT
BEGIN:VEVENT
DTSTART;TZID=America/Detroit:20261209T190000
DTEND;TZID=America/Detroit:20261209T190000
DTSTAMP:20260422T215728
CREATED:20260414T164856Z
LAST-MODIFIED:20260414T165404Z
UID:1261-1796842800-1796842800@cpcsebring.org
SUMMARY:Covenant Ringers
DESCRIPTION:The Covenant Ringers\, our new bell ensemble\, rehearses at 7pm till 8pm on Wednesdays in the CLC. \nContact Denise Anderson for info!  andmusic.55@gmail.com \n 
URL:https://cpcsebring.org/calendar/covenant-ringers-36/
LOCATION:Covenant Life Center
END:VEVENT
BEGIN:VEVENT
DTSTART;TZID=America/Detroit:20261213T103000
DTEND;TZID=America/Detroit:20261213T103000
DTSTAMP:20260422T215728
CREATED:20260414T160346Z
LAST-MODIFIED:20260414T160439Z
UID:1147-1797157800-1797157800@cpcsebring.org
SUMMARY:Sunday Services
DESCRIPTION:Come worship with us!
URL:https://cpcsebring.org/calendar/sunday-services-31/
LOCATION:Covenant Church
END:VEVENT
BEGIN:VEVENT
DTSTART;TZID=America/Detroit:20261215T161500
DTEND;TZID=America/Detroit:20261215T161500
DTSTAMP:20260422T215728
CREATED:20260414T160908Z
LAST-MODIFIED:20260414T160946Z
UID:1170-1797351300-1797351300@cpcsebring.org
SUMMARY:Officer's Meeting
DESCRIPTION:
URL:https://cpcsebring.org/calendar/officers-meeting-10/
END:VEVENT
BEGIN:VEVENT
DTSTART;TZID=America/Detroit:20261216T170000
DTEND;TZID=America/Detroit:20261216T170000
DTSTAMP:20260422T215728
CREATED:20260414T161211Z
LAST-MODIFIED:20260414T161702Z
UID:1188-1797440400-1797440400@cpcsebring.org
SUMMARY:Choir Practice
DESCRIPTION:For any questions\, please contact Rhoda Wolfe at rhoda.e.wolfe@gmail.com \n\n\n\n\n\n 
URL:https://cpcsebring.org/calendar/choir-practice-34/
LOCATION:Covenant Church
END:VEVENT
BEGIN:VEVENT
DTSTART;TZID=America/Detroit:20261216T180000
DTEND;TZID=America/Detroit:20261216T180000
DTSTAMP:20260422T215728
CREATED:20260414T163539Z
LAST-MODIFIED:20260414T164618Z
UID:1233-1797444000-1797444000@cpcsebring.org
SUMMARY:JAM (Jesus and Me)
DESCRIPTION:
URL:https://cpcsebring.org/calendar/jam-jesus-and-me-33/
LOCATION:Covenant Life Center
END:VEVENT
BEGIN:VEVENT
DTSTART;TZID=America/Detroit:20261216T190000
DTEND;TZID=America/Detroit:20261216T190000
DTSTAMP:20260422T215728
CREATED:20260414T164910Z
LAST-MODIFIED:20260414T165412Z
UID:1263-1797447600-1797447600@cpcsebring.org
SUMMARY:Covenant Ringers
DESCRIPTION:The Covenant Ringers\, our new bell ensemble\, rehearses at 7pm till 8pm on Wednesdays in the CLC. \nContact Denise Anderson for info!  andmusic.55@gmail.com \n 
URL:https://cpcsebring.org/calendar/covenant-ringers-37/
LOCATION:Covenant Life Center
END:VEVENT
BEGIN:VEVENT
DTSTART;TZID=America/Detroit:20261216T190000
DTEND;TZID=America/Detroit:20261216T190000
DTSTAMP:20260422T215728
CREATED:20260414T164940Z
LAST-MODIFIED:20260414T165418Z
UID:1265-1797447600-1797447600@cpcsebring.org
SUMMARY:Covenant Ringers
DESCRIPTION:The Covenant Ringers\, our new bell ensemble\, rehearses at 7pm till 8pm on Wednesdays in the CLC. \nContact Denise Anderson for info!  andmusic.55@gmail.com \n 
URL:https://cpcsebring.org/calendar/covenant-ringers-38/
LOCATION:Covenant Life Center
END:VEVENT
BEGIN:VEVENT
DTSTART;TZID=America/Detroit:20261217T080000
DTEND;TZID=America/Detroit:20261217T080000
DTSTAMP:20260422T215728
CREATED:20260414T160159Z
LAST-MODIFIED:20260414T160325Z
UID:1141-1797494400-1797494400@cpcsebring.org
SUMMARY:Men's Prayer Breakfast & Bible Study
DESCRIPTION:  \n 
URL:https://cpcsebring.org/calendar/mens-prayer-breakfast-bible-study-19/
LOCATION:Oscar’s Restaurant\, Oscar's Restaurant\, Sebring\, FL\, 33870\, United States
END:VEVENT
BEGIN:VEVENT
DTSTART;TZID=America/Detroit:20261220T103000
DTEND;TZID=America/Detroit:20261220T103000
DTSTAMP:20260422T215728
CREATED:20260414T160350Z
LAST-MODIFIED:20260414T160442Z
UID:1149-1797762600-1797762600@cpcsebring.org
SUMMARY:Sunday Services
DESCRIPTION:Come worship with us!
URL:https://cpcsebring.org/calendar/sunday-services-32/
LOCATION:Covenant Church
END:VEVENT
BEGIN:VEVENT
DTSTART;TZID=America/Detroit:20261223T170000
DTEND;TZID=America/Detroit:20261223T170000
DTSTAMP:20260422T215728
CREATED:20260414T161220Z
LAST-MODIFIED:20260414T161711Z
UID:1190-1798045200-1798045200@cpcsebring.org
SUMMARY:Choir Practice
DESCRIPTION:For any questions\, please contact Rhoda Wolfe at rhoda.e.wolfe@gmail.com \n\n\n\n\n\n 
URL:https://cpcsebring.org/calendar/choir-practice-35/
LOCATION:Covenant Church
END:VEVENT
BEGIN:VEVENT
DTSTART;TZID=America/Detroit:20261223T180000
DTEND;TZID=America/Detroit:20261223T180000
DTSTAMP:20260422T215728
CREATED:20260414T163550Z
LAST-MODIFIED:20260414T164630Z
UID:1235-1798048800-1798048800@cpcsebring.org
SUMMARY:JAM (Jesus and Me)
DESCRIPTION:
URL:https://cpcsebring.org/calendar/jam-jesus-and-me-34/
LOCATION:Covenant Life Center
END:VEVENT
BEGIN:VEVENT
DTSTART;TZID=America/Detroit:20261223T190000
DTEND;TZID=America/Detroit:20261223T190000
DTSTAMP:20260422T215728
CREATED:20260414T164950Z
LAST-MODIFIED:20260414T165431Z
UID:1267-1798052400-1798052400@cpcsebring.org
SUMMARY:Covenant Ringers
DESCRIPTION:The Covenant Ringers\, our new bell ensemble\, rehearses at 7pm till 8pm on Wednesdays in the CLC. \nContact Denise Anderson for info!  andmusic.55@gmail.com \n 
URL:https://cpcsebring.org/calendar/covenant-ringers-39/
LOCATION:Covenant Life Center
END:VEVENT
BEGIN:VEVENT
DTSTART;TZID=America/Detroit:20261227T103000
DTEND;TZID=America/Detroit:20261227T103000
DTSTAMP:20260422T215728
CREATED:20260414T160355Z
LAST-MODIFIED:20260414T160447Z
UID:1151-1798367400-1798367400@cpcsebring.org
SUMMARY:Sunday Services
DESCRIPTION:Come worship with us!
URL:https://cpcsebring.org/calendar/sunday-services-34/
LOCATION:Covenant Church
END:VEVENT
BEGIN:VEVENT
DTSTART;TZID=America/Detroit:20261230T170000
DTEND;TZID=America/Detroit:20261230T170000
DTSTAMP:20260422T215728
CREATED:20260414T161830Z
LAST-MODIFIED:20260414T161859Z
UID:1206-1798650000-1798650000@cpcsebring.org
SUMMARY:Choir Practice
DESCRIPTION:For any questions\, please contact Rhoda Wolfe at rhoda.e.wolfe@gmail.com \n\n\n\n\n\n 
URL:https://cpcsebring.org/calendar/choir-practice-36/
LOCATION:Covenant Church
END:VEVENT
BEGIN:VEVENT
DTSTART;TZID=America/Detroit:20261230T180000
DTEND;TZID=America/Detroit:20261230T180000
DTSTAMP:20260422T215728
CREATED:20260414T163325Z
LAST-MODIFIED:20260414T164641Z
UID:1219-1798653600-1798653600@cpcsebring.org
SUMMARY:JAM (Jesus and Me)
DESCRIPTION:
URL:https://cpcsebring.org/calendar/jam-jesus-and-me-27/
LOCATION:Covenant Life Center
END:VEVENT
BEGIN:VEVENT
DTSTART;TZID=America/Detroit:20261230T190000
DTEND;TZID=America/Detroit:20261230T190000
DTSTAMP:20260422T215728
CREATED:20260414T165838Z
LAST-MODIFIED:20260414T165902Z
UID:1285-1798657200-1798657200@cpcsebring.org
SUMMARY:Covenant Ringers
DESCRIPTION:The Covenant Ringers\, our new bell ensemble\, rehearses at 7pm till 8pm on Wednesdays in the CLC. \nContact Denise Anderson for info!  andmusic.55@gmail.com \n 
URL:https://cpcsebring.org/calendar/covenant-ringers-40/
LOCATION:Covenant Life Center
END:VEVENT
END:VCALENDAR