BEGIN:VCALENDAR
VERSION:2.0
PRODID:-//Covenant Presbyterian Church - ECPv6.15.20//NONSGML v1.0//EN
CALSCALE:GREGORIAN
METHOD:PUBLISH
X-ORIGINAL-URL:https://cpcsebring.org
X-WR-CALDESC:Events for Covenant Presbyterian Church
REFRESH-INTERVAL;VALUE=DURATION:PT1H
X-Robots-Tag:noindex
X-PUBLISHED-TTL:PT1H
BEGIN:VTIMEZONE
TZID:America/Detroit
BEGIN:DAYLIGHT
TZOFFSETFROM:-0500
TZOFFSETTO:-0400
TZNAME:EDT
DTSTART:20250309T070000
END:DAYLIGHT
BEGIN:STANDARD
TZOFFSETFROM:-0400
TZOFFSETTO:-0500
TZNAME:EST
DTSTART:20251102T060000
END:STANDARD
BEGIN:DAYLIGHT
TZOFFSETFROM:-0500
TZOFFSETTO:-0400
TZNAME:EDT
DTSTART:20260308T070000
END:DAYLIGHT
BEGIN:STANDARD
TZOFFSETFROM:-0400
TZOFFSETTO:-0500
TZNAME:EST
DTSTART:20261101T060000
END:STANDARD
BEGIN:DAYLIGHT
TZOFFSETFROM:-0500
TZOFFSETTO:-0400
TZNAME:EDT
DTSTART:20270314T070000
END:DAYLIGHT
BEGIN:STANDARD
TZOFFSETFROM:-0400
TZOFFSETTO:-0500
TZNAME:EST
DTSTART:20271107T060000
END:STANDARD
END:VTIMEZONE
BEGIN:VEVENT
DTSTART;TZID=America/Detroit:20260802T103000
DTEND;TZID=America/Detroit:20260802T103000
DTSTAMP:20260422T154904
CREATED:20260414T130733Z
LAST-MODIFIED:20260414T141056Z
UID:677-1785666600-1785666600@cpcsebring.org
SUMMARY:Sunday Services
DESCRIPTION:Come worship with us!
URL:https://cpcsebring.org/calendar/sunday-services-16/
LOCATION:Covenant Church
END:VEVENT
BEGIN:VEVENT
DTSTART;TZID=America/Detroit:20260805T170000
DTEND;TZID=America/Detroit:20260805T170000
DTSTAMP:20260422T154904
CREATED:20260414T131312Z
LAST-MODIFIED:20260414T135108Z
UID:718-1785949200-1785949200@cpcsebring.org
SUMMARY:Choir Practice
DESCRIPTION:For any questions\, please contact Rhoda Wolfe at rhoda.e.wolfe@gmail.com \n\n\n\n\n\n 
URL:https://cpcsebring.org/calendar/choir-practice-21/
LOCATION:Covenant Church
END:VEVENT
BEGIN:VEVENT
DTSTART;TZID=America/Detroit:20260805T180000
DTEND;TZID=America/Detroit:20260805T180000
DTSTAMP:20260422T154904
CREATED:20260414T132303Z
LAST-MODIFIED:20260414T135637Z
UID:767-1785952800-1785952800@cpcsebring.org
SUMMARY:JAM (Jesus and Me)
DESCRIPTION:
URL:https://cpcsebring.org/calendar/jam-jesus-and-me-21/
LOCATION:Covenant Life Center
END:VEVENT
BEGIN:VEVENT
DTSTART;TZID=America/Detroit:20260805T180000
DTEND;TZID=America/Detroit:20260805T180000
DTSTAMP:20260422T154904
CREATED:20260414T132048Z
LAST-MODIFIED:20260414T140058Z
UID:755-1785952800-1785952800@cpcsebring.org
SUMMARY:Covered Dish
DESCRIPTION:Please Bring a dish to share
URL:https://cpcsebring.org/calendar/covered-dish-5/
LOCATION:Covenant Life Center
END:VEVENT
BEGIN:VEVENT
DTSTART;TZID=America/Detroit:20260805T190000
DTEND;TZID=America/Detroit:20260805T190000
DTSTAMP:20260422T154904
CREATED:20260414T133655Z
LAST-MODIFIED:20260414T141436Z
UID:828-1785956400-1785956400@cpcsebring.org
SUMMARY:Covenant Ringers
DESCRIPTION:The Covenant Ringers\, our new bell ensemble\, rehearses at 7pm till 8pm on Wednesdays in the CLC. \nContact Denise Anderson for info!  andmusic.55@gmail.com \n 
URL:https://cpcsebring.org/calendar/covenant-ringers-27/
LOCATION:Covenant Life Center
END:VEVENT
BEGIN:VEVENT
DTSTART;TZID=America/Detroit:20260806T080000
DTEND;TZID=America/Detroit:20260806T080000
DTSTAMP:20260422T154904
CREATED:20260414T131058Z
LAST-MODIFIED:20260414T140829Z
UID:701-1786003200-1786003200@cpcsebring.org
SUMMARY:Men's Prayer Breakfast & Bible Study
DESCRIPTION:  \n 
URL:https://cpcsebring.org/calendar/mens-prayer-breakfast-bible-study-10/
LOCATION:Oscar’s Restaurant\, Oscar's Restaurant\, Sebring\, FL\, 33870\, United States
END:VEVENT
BEGIN:VEVENT
DTSTART;TZID=America/Detroit:20260809T103000
DTEND;TZID=America/Detroit:20260809T103000
DTSTAMP:20260422T154904
CREATED:20260414T130743Z
LAST-MODIFIED:20260414T141051Z
UID:679-1786271400-1786271400@cpcsebring.org
SUMMARY:Sunday Services
DESCRIPTION:Come worship with us!
URL:https://cpcsebring.org/calendar/sunday-services-17/
LOCATION:Covenant Church
END:VEVENT
BEGIN:VEVENT
DTSTART;TZID=America/Detroit:20260812T170000
DTEND;TZID=America/Detroit:20260812T170000
DTSTAMP:20260422T154904
CREATED:20260414T131305Z
LAST-MODIFIED:20260414T135113Z
UID:716-1786554000-1786554000@cpcsebring.org
SUMMARY:Choir Practice
DESCRIPTION:For any questions\, please contact Rhoda Wolfe at rhoda.e.wolfe@gmail.com \n\n\n\n\n\n 
URL:https://cpcsebring.org/calendar/choir-practice-20/
LOCATION:Covenant Church
END:VEVENT
BEGIN:VEVENT
DTSTART;TZID=America/Detroit:20260812T180000
DTEND;TZID=America/Detroit:20260812T180000
DTSTAMP:20260422T154904
CREATED:20260414T132237Z
LAST-MODIFIED:20260414T135641Z
UID:765-1786557600-1786557600@cpcsebring.org
SUMMARY:JAM (Jesus and Me)
DESCRIPTION:
URL:https://cpcsebring.org/calendar/jam-jesus-and-me-20/
LOCATION:Covenant Life Center
END:VEVENT
BEGIN:VEVENT
DTSTART;TZID=America/Detroit:20260812T190000
DTEND;TZID=America/Detroit:20260812T190000
DTSTAMP:20260422T154904
CREATED:20260414T133711Z
LAST-MODIFIED:20260414T141440Z
UID:830-1786561200-1786561200@cpcsebring.org
SUMMARY:Covenant Ringers
DESCRIPTION:The Covenant Ringers\, our new bell ensemble\, rehearses at 7pm till 8pm on Wednesdays in the CLC. \nContact Denise Anderson for info!  andmusic.55@gmail.com \n 
URL:https://cpcsebring.org/calendar/covenant-ringers-28/
LOCATION:Covenant Life Center
END:VEVENT
BEGIN:VEVENT
DTSTART;TZID=America/Detroit:20260816T103000
DTEND;TZID=America/Detroit:20260816T103000
DTSTAMP:20260422T154904
CREATED:20260414T130749Z
LAST-MODIFIED:20260414T141044Z
UID:681-1786876200-1786876200@cpcsebring.org
SUMMARY:Sunday Services
DESCRIPTION:Come worship with us!
URL:https://cpcsebring.org/calendar/sunday-services-17-2/
LOCATION:Covenant Church
END:VEVENT
BEGIN:VEVENT
DTSTART;TZID=America/Detroit:20260818T161500
DTEND;TZID=America/Detroit:20260818T161500
DTSTAMP:20260422T154904
CREATED:20260414T131015Z
LAST-MODIFIED:20260414T140721Z
UID:697-1787069700-1787069700@cpcsebring.org
SUMMARY:Officer's Meeting
DESCRIPTION:
URL:https://cpcsebring.org/calendar/officers-meeting-4/
END:VEVENT
BEGIN:VEVENT
DTSTART;TZID=America/Detroit:20260819T170000
DTEND;TZID=America/Detroit:20260819T170000
DTSTAMP:20260422T154904
CREATED:20260414T131254Z
LAST-MODIFIED:20260414T135118Z
UID:714-1787158800-1787158800@cpcsebring.org
SUMMARY:Choir Practice
DESCRIPTION:For any questions\, please contact Rhoda Wolfe at rhoda.e.wolfe@gmail.com \n\n\n\n\n\n 
URL:https://cpcsebring.org/calendar/choir-practice-19/
LOCATION:Covenant Church
END:VEVENT
BEGIN:VEVENT
DTSTART;TZID=America/Detroit:20260819T180000
DTEND;TZID=America/Detroit:20260819T180000
DTSTAMP:20260422T154904
CREATED:20260414T132229Z
LAST-MODIFIED:20260414T135645Z
UID:763-1787162400-1787162400@cpcsebring.org
SUMMARY:JAM (Jesus and Me)
DESCRIPTION:
URL:https://cpcsebring.org/calendar/jam-jesus-and-me-19/
LOCATION:Covenant Life Center
END:VEVENT
BEGIN:VEVENT
DTSTART;TZID=America/Detroit:20260819T190000
DTEND;TZID=America/Detroit:20260819T190000
DTSTAMP:20260422T154904
CREATED:20260414T133721Z
LAST-MODIFIED:20260414T141449Z
UID:832-1787166000-1787166000@cpcsebring.org
SUMMARY:Covenant Ringers
DESCRIPTION:The Covenant Ringers\, our new bell ensemble\, rehearses at 7pm till 8pm on Wednesdays in the CLC. \nContact Denise Anderson for info!  andmusic.55@gmail.com \n 
URL:https://cpcsebring.org/calendar/covenant-ringers-29/
LOCATION:Covenant Life Center
END:VEVENT
BEGIN:VEVENT
DTSTART;TZID=America/Detroit:20260820T080000
DTEND;TZID=America/Detroit:20260820T080000
DTSTAMP:20260422T154904
CREATED:20260414T131106Z
LAST-MODIFIED:20260414T140825Z
UID:703-1787212800-1787212800@cpcsebring.org
SUMMARY:Men's Prayer Breakfast & Bible Study
DESCRIPTION:
URL:https://cpcsebring.org/calendar/mens-prayer-breakfast-bible-study-11/
LOCATION:Oscar’s Restaurant\, Oscar's Restaurant\, Sebring\, FL\, 33870\, United States
END:VEVENT
BEGIN:VEVENT
DTSTART;TZID=America/Detroit:20260823T103000
DTEND;TZID=America/Detroit:20260823T103000
DTSTAMP:20260422T154904
CREATED:20260414T130754Z
LAST-MODIFIED:20260414T141039Z
UID:683-1787481000-1787481000@cpcsebring.org
SUMMARY:Sunday Services
DESCRIPTION:Come worship with us!
URL:https://cpcsebring.org/calendar/sunday-services-18/
LOCATION:Covenant Church
END:VEVENT
BEGIN:VEVENT
DTSTART;TZID=America/Detroit:20260826T170000
DTEND;TZID=America/Detroit:20260826T170000
DTSTAMP:20260422T154904
CREATED:20260414T131246Z
LAST-MODIFIED:20260414T135125Z
UID:712-1787763600-1787763600@cpcsebring.org
SUMMARY:Choir Practice
DESCRIPTION:For any questions\, please contact Rhoda Wolfe at rhoda.e.wolfe@gmail.com \n\n\n\n\n\n 
URL:https://cpcsebring.org/calendar/choir-practice-18/
LOCATION:Covenant Church
END:VEVENT
BEGIN:VEVENT
DTSTART;TZID=America/Detroit:20260826T180000
DTEND;TZID=America/Detroit:20260826T180000
DTSTAMP:20260422T154904
CREATED:20260414T132150Z
LAST-MODIFIED:20260414T135650Z
UID:761-1787767200-1787767200@cpcsebring.org
SUMMARY:JAM (Jesus and Me)
DESCRIPTION:
URL:https://cpcsebring.org/calendar/jam-jesus-and-me-18/
LOCATION:Covenant Life Center
END:VEVENT
BEGIN:VEVENT
DTSTART;TZID=America/Detroit:20260826T190000
DTEND;TZID=America/Detroit:20260826T190000
DTSTAMP:20260422T154904
CREATED:20260414T141507Z
LAST-MODIFIED:20260414T141559Z
UID:998-1787770800-1787770800@cpcsebring.org
SUMMARY:Covenant Ringers
DESCRIPTION:The Covenant Ringers\, our new bell ensemble\, rehearses at 7pm till 8pm on Wednesdays in the CLC. \nContact Denise Anderson for info!  andmusic.55@gmail.com \n 
URL:https://cpcsebring.org/calendar/covenant-ringers-30-2/
LOCATION:Covenant Life Center
END:VEVENT
BEGIN:VEVENT
DTSTART;TZID=America/Detroit:20260830T103000
DTEND;TZID=America/Detroit:20260830T103000
DTSTAMP:20260422T154904
CREATED:20260414T130801Z
LAST-MODIFIED:20260414T141035Z
UID:685-1788085800-1788085800@cpcsebring.org
SUMMARY:Sunday Services
DESCRIPTION:Come worship with us!
URL:https://cpcsebring.org/calendar/sunday-services-19/
LOCATION:Covenant Church
END:VEVENT
END:VCALENDAR