BEGIN:VCALENDAR
VERSION:2.0
PRODID:-//Covenant Presbyterian Church - ECPv6.15.20//NONSGML v1.0//EN
CALSCALE:GREGORIAN
METHOD:PUBLISH
X-ORIGINAL-URL:https://cpcsebring.org
X-WR-CALDESC:Events for Covenant Presbyterian Church
REFRESH-INTERVAL;VALUE=DURATION:PT1H
X-Robots-Tag:noindex
X-PUBLISHED-TTL:PT1H
BEGIN:VTIMEZONE
TZID:America/Detroit
BEGIN:DAYLIGHT
TZOFFSETFROM:-0500
TZOFFSETTO:-0400
TZNAME:EDT
DTSTART:20250309T070000
END:DAYLIGHT
BEGIN:STANDARD
TZOFFSETFROM:-0400
TZOFFSETTO:-0500
TZNAME:EST
DTSTART:20251102T060000
END:STANDARD
BEGIN:DAYLIGHT
TZOFFSETFROM:-0500
TZOFFSETTO:-0400
TZNAME:EDT
DTSTART:20260308T070000
END:DAYLIGHT
BEGIN:STANDARD
TZOFFSETFROM:-0400
TZOFFSETTO:-0500
TZNAME:EST
DTSTART:20261101T060000
END:STANDARD
BEGIN:DAYLIGHT
TZOFFSETFROM:-0500
TZOFFSETTO:-0400
TZNAME:EDT
DTSTART:20270314T070000
END:DAYLIGHT
BEGIN:STANDARD
TZOFFSETFROM:-0400
TZOFFSETTO:-0500
TZNAME:EST
DTSTART:20271107T060000
END:STANDARD
END:VTIMEZONE
BEGIN:VEVENT
DTSTART;TZID=America/Detroit:20260701T170000
DTEND;TZID=America/Detroit:20260701T170000
DTSTAMP:20260422T142411
CREATED:20260414T102627Z
LAST-MODIFIED:20260414T135215Z
UID:610-1782925200-1782925200@cpcsebring.org
SUMMARY:Choir Practice
DESCRIPTION:For any questions\, please contact Rhoda Wolfe at rhoda.e.wolfe@gmail.com \n\n\n\n\n\n 
URL:https://cpcsebring.org/calendar/choir-practice-12/
LOCATION:Covenant Church
END:VEVENT
BEGIN:VEVENT
DTSTART;TZID=America/Detroit:20260701T180000
DTEND;TZID=America/Detroit:20260701T180000
DTSTAMP:20260422T142411
CREATED:20260414T130237Z
LAST-MODIFIED:20260414T135713Z
UID:654-1782928800-1782928800@cpcsebring.org
SUMMARY:JAM (Jesus and Me)
DESCRIPTION:
URL:https://cpcsebring.org/calendar/jam-jesus-and-me-12/
LOCATION:Covenant Life Center
END:VEVENT
BEGIN:VEVENT
DTSTART;TZID=America/Detroit:20260701T180000
DTEND;TZID=America/Detroit:20260701T180000
DTSTAMP:20260422T142411
CREATED:20260414T102517Z
LAST-MODIFIED:20260414T140105Z
UID:606-1782928800-1782928800@cpcsebring.org
SUMMARY:Covered Dish
DESCRIPTION:Please Bring a dish to share
URL:https://cpcsebring.org/calendar/covered-dish-3/
LOCATION:Covenant Life Center
END:VEVENT
BEGIN:VEVENT
DTSTART;TZID=America/Detroit:20260701T190000
DTEND;TZID=America/Detroit:20260701T190000
DTSTAMP:20260422T142411
CREATED:20260414T102924Z
LAST-MODIFIED:20260414T140522Z
UID:631-1782932400-1782932400@cpcsebring.org
SUMMARY:Covenant Ringers
DESCRIPTION:The Covenant Ringers\, our new bell ensemble\, rehearses at 7pm till 8pm on Wednesdays in the CLC. \nContact Denise Anderson for info!  andmusic.55@gmail.com \n 
URL:https://cpcsebring.org/calendar/covenant-ringers-13/
LOCATION:Covenant Life Center
END:VEVENT
BEGIN:VEVENT
DTSTART;TZID=America/Detroit:20260702T080000
DTEND;TZID=America/Detroit:20260702T080000
DTSTAMP:20260422T142411
CREATED:20260414T102028Z
LAST-MODIFIED:20260414T140836Z
UID:591-1782979200-1782979200@cpcsebring.org
SUMMARY:Men's Prayer Breakfast & Bible Study
DESCRIPTION:
URL:https://cpcsebring.org/calendar/mens-prayer-breakfast-bible-study-7/
LOCATION:Oscar’s Restaurant\, Oscar's Restaurant\, Sebring\, FL\, 33870\, United States
END:VEVENT
BEGIN:VEVENT
DTSTART;TZID=America/Detroit:20260705T103000
DTEND;TZID=America/Detroit:20260705T103000
DTSTAMP:20260422T142411
CREATED:20260414T100742Z
LAST-MODIFIED:20260414T141115Z
UID:571-1783247400-1783247400@cpcsebring.org
SUMMARY:Sunday Services
DESCRIPTION:Come worship with us!
URL:https://cpcsebring.org/calendar/sunday-services-12-2/
LOCATION:Covenant Church
END:VEVENT
BEGIN:VEVENT
DTSTART;TZID=America/Detroit:20260708T170000
DTEND;TZID=America/Detroit:20260708T170000
DTSTAMP:20260422T142411
CREATED:20260414T102638Z
LAST-MODIFIED:20260414T135211Z
UID:612-1783530000-1783530000@cpcsebring.org
SUMMARY:Choir Practice
DESCRIPTION:For any questions\, please contact Rhoda Wolfe at rhoda.e.wolfe@gmail.com \n\n\n\n\n\n 
URL:https://cpcsebring.org/calendar/choir-practice-13/
LOCATION:Covenant Church
END:VEVENT
BEGIN:VEVENT
DTSTART;TZID=America/Detroit:20260708T180000
DTEND;TZID=America/Detroit:20260708T180000
DTSTAMP:20260422T142411
CREATED:20260414T130315Z
LAST-MODIFIED:20260414T135658Z
UID:660-1783533600-1783533600@cpcsebring.org
SUMMARY:JAM (Jesus and Me)
DESCRIPTION:
URL:https://cpcsebring.org/calendar/jam-jesus-and-me-13/
LOCATION:Covenant Life Center
END:VEVENT
BEGIN:VEVENT
DTSTART;TZID=America/Detroit:20260708T190000
DTEND;TZID=America/Detroit:20260708T190000
DTSTAMP:20260422T142411
CREATED:20260414T102936Z
LAST-MODIFIED:20260414T140517Z
UID:633-1783537200-1783537200@cpcsebring.org
SUMMARY:Covenant Ringers
DESCRIPTION:The Covenant Ringers\, our new bell ensemble\, rehearses at 7pm till 8pm on Wednesdays in the CLC. \nContact Denise Anderson for info!  andmusic.55@gmail.com \n 
URL:https://cpcsebring.org/calendar/covenant-ringers-14/
LOCATION:Covenant Life Center
END:VEVENT
BEGIN:VEVENT
DTSTART;TZID=America/Detroit:20260712T103000
DTEND;TZID=America/Detroit:20260712T103000
DTSTAMP:20260422T142411
CREATED:20260414T101745Z
LAST-MODIFIED:20260414T141111Z
UID:575-1783852200-1783852200@cpcsebring.org
SUMMARY:Sunday Services
DESCRIPTION:Come worship with us!
URL:https://cpcsebring.org/calendar/sunday-services-13/
LOCATION:Covenant Church
END:VEVENT
BEGIN:VEVENT
DTSTART;TZID=America/Detroit:20260715T170000
DTEND;TZID=America/Detroit:20260715T170000
DTSTAMP:20260422T142411
CREATED:20260414T102645Z
LAST-MODIFIED:20260414T135206Z
UID:614-1784134800-1784134800@cpcsebring.org
SUMMARY:Choir Practice
DESCRIPTION:For any questions\, please contact Rhoda Wolfe at rhoda.e.wolfe@gmail.com \n\n\n\n\n\n 
URL:https://cpcsebring.org/calendar/choir-practice-14/
LOCATION:Covenant Church
END:VEVENT
BEGIN:VEVENT
DTSTART;TZID=America/Detroit:20260715T180000
DTEND;TZID=America/Detroit:20260715T180000
DTSTAMP:20260422T142411
CREATED:20260414T130309Z
LAST-MODIFIED:20260414T135703Z
UID:658-1784138400-1784138400@cpcsebring.org
SUMMARY:JAM (Jesus and Me)
DESCRIPTION:
URL:https://cpcsebring.org/calendar/jam-jesus-and-me-14/
LOCATION:Covenant Life Center
END:VEVENT
BEGIN:VEVENT
DTSTART;TZID=America/Detroit:20260715T190000
DTEND;TZID=America/Detroit:20260715T190000
DTSTAMP:20260422T142411
CREATED:20260414T103010Z
LAST-MODIFIED:20260414T140512Z
UID:635-1784142000-1784142000@cpcsebring.org
SUMMARY:Covenant Ringers
DESCRIPTION:The Covenant Ringers\, our new bell ensemble\, rehearses at 7pm till 8pm on Wednesdays in the CLC. \nContact Denise Anderson for info!  andmusic.55@gmail.com \n 
URL:https://cpcsebring.org/calendar/covenant-ringers-15/
LOCATION:Covenant Life Center
END:VEVENT
BEGIN:VEVENT
DTSTART;TZID=America/Detroit:20260716T080000
DTEND;TZID=America/Detroit:20260716T080000
DTSTAMP:20260422T142411
CREATED:20260414T102035Z
LAST-MODIFIED:20260414T140832Z
UID:593-1784188800-1784188800@cpcsebring.org
SUMMARY:Men's Prayer Breakfast & Bible Study
DESCRIPTION:
URL:https://cpcsebring.org/calendar/mens-prayer-breakfast-bible-study-9/
LOCATION:Oscar’s Restaurant\, Oscar's Restaurant\, Sebring\, FL\, 33870\, United States
END:VEVENT
BEGIN:VEVENT
DTSTART;TZID=America/Detroit:20260719T103000
DTEND;TZID=America/Detroit:20260719T103000
DTSTAMP:20260422T142411
CREATED:20260414T101754Z
LAST-MODIFIED:20260414T141105Z
UID:577-1784457000-1784457000@cpcsebring.org
SUMMARY:Sunday Services
DESCRIPTION:Come worship with us!
URL:https://cpcsebring.org/calendar/sunday-services-14/
LOCATION:Covenant Church
END:VEVENT
BEGIN:VEVENT
DTSTART;TZID=America/Detroit:20260721T161500
DTEND;TZID=America/Detroit:20260721T161500
DTSTAMP:20260422T142411
CREATED:20260414T102341Z
LAST-MODIFIED:20260414T140725Z
UID:602-1784650500-1784650500@cpcsebring.org
SUMMARY:Officer's Meeting
DESCRIPTION:
URL:https://cpcsebring.org/calendar/officers-meeting-3/
END:VEVENT
BEGIN:VEVENT
DTSTART;TZID=America/Detroit:20260722T170000
DTEND;TZID=America/Detroit:20260722T170000
DTSTAMP:20260422T142411
CREATED:20260414T102651Z
LAST-MODIFIED:20260414T135159Z
UID:616-1784739600-1784739600@cpcsebring.org
SUMMARY:Choir Practice
DESCRIPTION:For any questions\, please contact Rhoda Wolfe at rhoda.e.wolfe@gmail.com \n\n\n\n\n\n 
URL:https://cpcsebring.org/calendar/choir-practice-15/
LOCATION:Covenant Church
END:VEVENT
BEGIN:VEVENT
DTSTART;TZID=America/Detroit:20260722T180000
DTEND;TZID=America/Detroit:20260722T180000
DTSTAMP:20260422T142411
CREATED:20260414T130302Z
LAST-MODIFIED:20260414T135707Z
UID:656-1784743200-1784743200@cpcsebring.org
SUMMARY:JAM (Jesus and Me)
DESCRIPTION:
URL:https://cpcsebring.org/calendar/jam-jesus-and-me-15/
LOCATION:Covenant Life Center
END:VEVENT
BEGIN:VEVENT
DTSTART;TZID=America/Detroit:20260722T190000
DTEND;TZID=America/Detroit:20260722T190000
DTSTAMP:20260422T142411
CREATED:20260414T103018Z
LAST-MODIFIED:20260414T140507Z
UID:637-1784746800-1784746800@cpcsebring.org
SUMMARY:Covenant Ringers
DESCRIPTION:The Covenant Ringers\, our new bell ensemble\, rehearses at 7pm till 8pm on Wednesdays in the CLC. \nContact Denise Anderson for info!  andmusic.55@gmail.com \n 
URL:https://cpcsebring.org/calendar/covenant-ringers-16/
LOCATION:Covenant Life Center
END:VEVENT
BEGIN:VEVENT
DTSTART;TZID=America/Detroit:20260726T103000
DTEND;TZID=America/Detroit:20260726T103000
DTSTAMP:20260422T142411
CREATED:20260414T101821Z
LAST-MODIFIED:20260414T141101Z
UID:579-1785061800-1785061800@cpcsebring.org
SUMMARY:Sunday Services
DESCRIPTION:Come worship with us!
URL:https://cpcsebring.org/calendar/sunday-services-15/
LOCATION:Covenant Church
END:VEVENT
BEGIN:VEVENT
DTSTART;TZID=America/Detroit:20260729T170000
DTEND;TZID=America/Detroit:20260729T170000
DTSTAMP:20260422T142411
CREATED:20260414T102658Z
LAST-MODIFIED:20260414T135156Z
UID:618-1785344400-1785344400@cpcsebring.org
SUMMARY:Choir Practice
DESCRIPTION:For any questions\, please contact Rhoda Wolfe at rhoda.e.wolfe@gmail.com \n\n\n\n\n\n 
URL:https://cpcsebring.org/calendar/choir-practice-16/
LOCATION:Covenant Church
END:VEVENT
BEGIN:VEVENT
DTSTART;TZID=America/Detroit:20260729T180000
DTEND;TZID=America/Detroit:20260729T180000
DTSTAMP:20260422T142411
CREATED:20260414T125724Z
LAST-MODIFIED:20260414T135716Z
UID:652-1785348000-1785348000@cpcsebring.org
SUMMARY:JAM (Jesus and Me)
DESCRIPTION:
URL:https://cpcsebring.org/calendar/jam-jesus-and-me-16/
LOCATION:Covenant Life Center
END:VEVENT
BEGIN:VEVENT
DTSTART;TZID=America/Detroit:20260729T190000
DTEND;TZID=America/Detroit:20260729T190000
DTSTAMP:20260422T142411
CREATED:20260414T103232Z
LAST-MODIFIED:20260414T140503Z
UID:648-1785351600-1785351600@cpcsebring.org
SUMMARY:Covenant Ringers
DESCRIPTION:The Covenant Ringers\, our new bell ensemble\, rehearses at 7pm till 8pm on Wednesdays in the CLC. \nContact Denise Anderson for info!  andmusic.55@gmail.com \n 
URL:https://cpcsebring.org/calendar/covenant-ringers-17/
LOCATION:Covenant Life Center
END:VEVENT
END:VCALENDAR