BEGIN:VCALENDAR
VERSION:2.0
PRODID:-//Covenant Presbyterian Church - ECPv6.15.20//NONSGML v1.0//EN
CALSCALE:GREGORIAN
METHOD:PUBLISH
X-ORIGINAL-URL:https://cpcsebring.org
X-WR-CALDESC:Events for Covenant Presbyterian Church
REFRESH-INTERVAL;VALUE=DURATION:PT1H
X-Robots-Tag:noindex
X-PUBLISHED-TTL:PT1H
BEGIN:VTIMEZONE
TZID:America/Detroit
BEGIN:DAYLIGHT
TZOFFSETFROM:-0500
TZOFFSETTO:-0400
TZNAME:EDT
DTSTART:20250309T070000
END:DAYLIGHT
BEGIN:STANDARD
TZOFFSETFROM:-0400
TZOFFSETTO:-0500
TZNAME:EST
DTSTART:20251102T060000
END:STANDARD
BEGIN:DAYLIGHT
TZOFFSETFROM:-0500
TZOFFSETTO:-0400
TZNAME:EDT
DTSTART:20260308T070000
END:DAYLIGHT
BEGIN:STANDARD
TZOFFSETFROM:-0400
TZOFFSETTO:-0500
TZNAME:EST
DTSTART:20261101T060000
END:STANDARD
BEGIN:DAYLIGHT
TZOFFSETFROM:-0500
TZOFFSETTO:-0400
TZNAME:EDT
DTSTART:20270314T070000
END:DAYLIGHT
BEGIN:STANDARD
TZOFFSETFROM:-0400
TZOFFSETTO:-0500
TZNAME:EST
DTSTART:20271107T060000
END:STANDARD
END:VTIMEZONE
BEGIN:VEVENT
DTSTART;TZID=America/Detroit:20260603T170000
DTEND;TZID=America/Detroit:20260603T170000
DTSTAMP:20260422T125447
CREATED:20260414T095449Z
LAST-MODIFIED:20260414T135232Z
UID:503-1780506000-1780506000@cpcsebring.org
SUMMARY:Choir Practice
DESCRIPTION:For any questions\, please contact Rhoda Wolfe at rhoda.e.wolfe@gmail.com \n\n\n\n\n\n 
URL:https://cpcsebring.org/calendar/choir-practice-8/
LOCATION:Covenant Church
END:VEVENT
BEGIN:VEVENT
DTSTART;TZID=America/Detroit:20260603T180000
DTEND;TZID=America/Detroit:20260603T180000
DTSTAMP:20260422T125447
CREATED:20260414T100102Z
LAST-MODIFIED:20260414T135818Z
UID:529-1780509600-1780509600@cpcsebring.org
SUMMARY:JAM (Jesus and Me)
DESCRIPTION:
URL:https://cpcsebring.org/calendar/jam-jesus-and-me-8/
LOCATION:Covenant Life Center
END:VEVENT
BEGIN:VEVENT
DTSTART;TZID=America/Detroit:20260603T180000
DTEND;TZID=America/Detroit:20260603T180000
DTSTAMP:20260422T125447
CREATED:20260414T095800Z
LAST-MODIFIED:20260414T140111Z
UID:521-1780509600-1780509600@cpcsebring.org
SUMMARY:Covered Dish
DESCRIPTION:Please Bring a dish to share
URL:https://cpcsebring.org/calendar/covered-dish-2/
LOCATION:Covenant Life Center
END:VEVENT
BEGIN:VEVENT
DTSTART;TZID=America/Detroit:20260603T190000
DTEND;TZID=America/Detroit:20260603T190000
DTSTAMP:20260422T125447
CREATED:20260414T100419Z
LAST-MODIFIED:20260414T140527Z
UID:555-1780513200-1780513200@cpcsebring.org
SUMMARY:Covenant Ringers
DESCRIPTION:The Covenant Ringers\, our new bell ensemble\, rehearses at 7pm till 8pm on Wednesdays in the CLC. \nContact Denise Anderson for info!  andmusic.55@gmail.com \n 
URL:https://cpcsebring.org/calendar/covenant-ringers-9/
LOCATION:Covenant Life Center
END:VEVENT
BEGIN:VEVENT
DTSTART;TZID=America/Detroit:20260604T080000
DTEND;TZID=America/Detroit:20260604T080000
DTSTAMP:20260422T125447
CREATED:20260414T095217Z
LAST-MODIFIED:20260414T140841Z
UID:493-1780560000-1780560000@cpcsebring.org
SUMMARY:Men's Prayer Breakfast & Bible Study
DESCRIPTION:
URL:https://cpcsebring.org/calendar/mens-prayer-breakfast-bible-study-5/
LOCATION:Oscar’s Restaurant\, Oscar's Restaurant\, Sebring\, FL\, 33870\, United States
END:VEVENT
BEGIN:VEVENT
DTSTART;TZID=America/Detroit:20260607T103000
DTEND;TZID=America/Detroit:20260607T103000
DTSTAMP:20260422T125447
CREATED:20260414T093749Z
LAST-MODIFIED:20260414T141132Z
UID:473-1780828200-1780828200@cpcsebring.org
SUMMARY:Sunday Services
DESCRIPTION:Come worship with us!
URL:https://cpcsebring.org/calendar/sunday-services-9/
LOCATION:Covenant Church
END:VEVENT
BEGIN:VEVENT
DTSTART;TZID=America/Detroit:20260610T170000
DTEND;TZID=America/Detroit:20260610T170000
DTSTAMP:20260422T125447
CREATED:20260414T095458Z
LAST-MODIFIED:20260414T135228Z
UID:505-1781110800-1781110800@cpcsebring.org
SUMMARY:Choir Practice
DESCRIPTION:For any questions\, please contact Rhoda Wolfe at rhoda.e.wolfe@gmail.com \n\n\n\n\n\n 
URL:https://cpcsebring.org/calendar/choir-practice-9/
LOCATION:Covenant Church
END:VEVENT
BEGIN:VEVENT
DTSTART;TZID=America/Detroit:20260610T180000
DTEND;TZID=America/Detroit:20260610T180000
DTSTAMP:20260422T125447
CREATED:20260414T100113Z
LAST-MODIFIED:20260414T135752Z
UID:531-1781114400-1781114400@cpcsebring.org
SUMMARY:JAM (Jesus and Me)
DESCRIPTION:
URL:https://cpcsebring.org/calendar/jam-jesus-and-me-9/
LOCATION:Covenant Life Center
END:VEVENT
BEGIN:VEVENT
DTSTART;TZID=America/Detroit:20260610T190000
DTEND;TZID=America/Detroit:20260610T190000
DTSTAMP:20260422T125447
CREATED:20260414T100411Z
LAST-MODIFIED:20260414T140530Z
UID:553-1781118000-1781118000@cpcsebring.org
SUMMARY:Covenant Ringers
DESCRIPTION:The Covenant Ringers\, our new bell ensemble\, rehearses at 7pm till 8pm on Wednesdays in the CLC. \nContact Denise Anderson for info!  andmusic.55@gmail.com \n 
URL:https://cpcsebring.org/calendar/covenant-ringers-10/
LOCATION:Covenant Life Center
END:VEVENT
BEGIN:VEVENT
DTSTART;TZID=America/Detroit:20260614T103000
DTEND;TZID=America/Detroit:20260614T103000
DTSTAMP:20260422T125447
CREATED:20260414T093753Z
LAST-MODIFIED:20260414T141127Z
UID:475-1781433000-1781433000@cpcsebring.org
SUMMARY:Sunday Services
DESCRIPTION:Come worship with us!
URL:https://cpcsebring.org/calendar/sunday-services-10/
LOCATION:Covenant Church
END:VEVENT
BEGIN:VEVENT
DTSTART;TZID=America/Detroit:20260616T161500
DTEND;TZID=America/Detroit:20260616T161500
DTSTAMP:20260422T125447
CREATED:20260414T095230Z
LAST-MODIFIED:20260414T140730Z
UID:495-1781626500-1781626500@cpcsebring.org
SUMMARY:Officer's Meeting
DESCRIPTION:
URL:https://cpcsebring.org/calendar/officers-meeting-2/
END:VEVENT
BEGIN:VEVENT
DTSTART;TZID=America/Detroit:20260617T170000
DTEND;TZID=America/Detroit:20260617T170000
DTSTAMP:20260422T125447
CREATED:20260414T095509Z
LAST-MODIFIED:20260414T135223Z
UID:507-1781715600-1781715600@cpcsebring.org
SUMMARY:Choir Practice
DESCRIPTION:For any questions\, please contact Rhoda Wolfe at rhoda.e.wolfe@gmail.com \n\n\n\n\n\n 
URL:https://cpcsebring.org/calendar/choir-practice-10/
LOCATION:Covenant Church
END:VEVENT
BEGIN:VEVENT
DTSTART;TZID=America/Detroit:20260617T180000
DTEND;TZID=America/Detroit:20260617T180000
DTSTAMP:20260422T125447
CREATED:20260414T100121Z
LAST-MODIFIED:20260414T135731Z
UID:533-1781719200-1781719200@cpcsebring.org
SUMMARY:JAM (Jesus and Me)
DESCRIPTION:
URL:https://cpcsebring.org/calendar/jam-jesus-and-me-10/
LOCATION:Covenant Life Center
END:VEVENT
BEGIN:VEVENT
DTSTART;TZID=America/Detroit:20260617T190000
DTEND;TZID=America/Detroit:20260617T190000
DTSTAMP:20260422T125447
CREATED:20260414T100359Z
LAST-MODIFIED:20260414T140534Z
UID:551-1781722800-1781722800@cpcsebring.org
SUMMARY:Covenant Ringers
DESCRIPTION:The Covenant Ringers\, our new bell ensemble\, rehearses at 7pm till 8pm on Wednesdays in the CLC. \nContact Denise Anderson for info!  andmusic.55@gmail.com \n 
URL:https://cpcsebring.org/calendar/covenant-ringers-11/
LOCATION:Covenant Life Center
END:VEVENT
BEGIN:VEVENT
DTSTART;TZID=America/Detroit:20260618T080000
DTEND;TZID=America/Detroit:20260618T080000
DTSTAMP:20260422T125447
CREATED:20260414T095210Z
LAST-MODIFIED:20260414T140845Z
UID:491-1781769600-1781769600@cpcsebring.org
SUMMARY:Men's Prayer Breakfast & Bible Study
DESCRIPTION:
URL:https://cpcsebring.org/calendar/mens-prayer-breakfast-bible-study-6/
LOCATION:Oscar’s Restaurant\, Oscar's Restaurant\, Sebring\, FL\, 33870\, United States
END:VEVENT
BEGIN:VEVENT
DTSTART;TZID=America/Detroit:20260621T103000
DTEND;TZID=America/Detroit:20260621T103000
DTSTAMP:20260422T125447
CREATED:20260414T093757Z
LAST-MODIFIED:20260414T141124Z
UID:477-1782037800-1782037800@cpcsebring.org
SUMMARY:Sunday Services
DESCRIPTION:Come worship with us!
URL:https://cpcsebring.org/calendar/sunday-services-11/
LOCATION:Covenant Church
END:VEVENT
BEGIN:VEVENT
DTSTART;TZID=America/Detroit:20260624T170000
DTEND;TZID=America/Detroit:20260624T170000
DTSTAMP:20260422T125447
CREATED:20260414T095517Z
LAST-MODIFIED:20260414T135220Z
UID:509-1782320400-1782320400@cpcsebring.org
SUMMARY:Choir Practice
DESCRIPTION:For any questions\, please contact Rhoda Wolfe at rhoda.e.wolfe@gmail.com \n\n\n\n\n\n 
URL:https://cpcsebring.org/calendar/choir-practice-11/
LOCATION:Covenant Church
END:VEVENT
BEGIN:VEVENT
DTSTART;TZID=America/Detroit:20260624T180000
DTEND;TZID=America/Detroit:20260624T180000
DTSTAMP:20260422T125447
CREATED:20260414T100129Z
LAST-MODIFIED:20260414T135724Z
UID:535-1782324000-1782324000@cpcsebring.org
SUMMARY:JAM (Jesus and Me)
DESCRIPTION:
URL:https://cpcsebring.org/calendar/jam-jesus-and-me-11/
LOCATION:Covenant Life Center
END:VEVENT
BEGIN:VEVENT
DTSTART;TZID=America/Detroit:20260624T190000
DTEND;TZID=America/Detroit:20260624T190000
DTSTAMP:20260422T125447
CREATED:20260414T100348Z
LAST-MODIFIED:20260414T140538Z
UID:549-1782327600-1782327600@cpcsebring.org
SUMMARY:Covenant Ringers
DESCRIPTION:The Covenant Ringers\, our new bell ensemble\, rehearses at 7pm till 8pm on Wednesdays in the CLC. \nContact Denise Anderson for info!  andmusic.55@gmail.com \n 
URL:https://cpcsebring.org/calendar/covenant-ringers-12/
LOCATION:Covenant Life Center
END:VEVENT
BEGIN:VEVENT
DTSTART;TZID=America/Detroit:20260628T103000
DTEND;TZID=America/Detroit:20260628T103000
DTSTAMP:20260422T125447
CREATED:20260414T093801Z
LAST-MODIFIED:20260414T141119Z
UID:479-1782642600-1782642600@cpcsebring.org
SUMMARY:Sunday Services
DESCRIPTION:Come worship with us!
URL:https://cpcsebring.org/calendar/sunday-services-12/
LOCATION:Covenant Church
END:VEVENT
END:VCALENDAR