BEGIN:VCALENDAR
VERSION:2.0
PRODID:-//Covenant Presbyterian Church - ECPv6.15.20//NONSGML v1.0//EN
CALSCALE:GREGORIAN
METHOD:PUBLISH
X-ORIGINAL-URL:https://cpcsebring.org
X-WR-CALDESC:Events for Covenant Presbyterian Church
REFRESH-INTERVAL;VALUE=DURATION:PT1H
X-Robots-Tag:noindex
X-PUBLISHED-TTL:PT1H
BEGIN:VTIMEZONE
TZID:America/Detroit
BEGIN:DAYLIGHT
TZOFFSETFROM:-0500
TZOFFSETTO:-0400
TZNAME:EDT
DTSTART:20250309T070000
END:DAYLIGHT
BEGIN:STANDARD
TZOFFSETFROM:-0400
TZOFFSETTO:-0500
TZNAME:EST
DTSTART:20251102T060000
END:STANDARD
BEGIN:DAYLIGHT
TZOFFSETFROM:-0500
TZOFFSETTO:-0400
TZNAME:EDT
DTSTART:20260308T070000
END:DAYLIGHT
BEGIN:STANDARD
TZOFFSETFROM:-0400
TZOFFSETTO:-0500
TZNAME:EST
DTSTART:20261101T060000
END:STANDARD
BEGIN:DAYLIGHT
TZOFFSETFROM:-0500
TZOFFSETTO:-0400
TZNAME:EDT
DTSTART:20270314T070000
END:DAYLIGHT
BEGIN:STANDARD
TZOFFSETFROM:-0400
TZOFFSETTO:-0500
TZNAME:EST
DTSTART:20271107T060000
END:STANDARD
END:VTIMEZONE
BEGIN:VEVENT
DTSTART;TZID=America/Detroit:20260503T103000
DTEND;TZID=America/Detroit:20260503T103000
DTSTAMP:20260422T113417
CREATED:20260414T090955Z
LAST-MODIFIED:20260414T141153Z
UID:389-1777804200-1777804200@cpcsebring.org
SUMMARY:Sunday Services
DESCRIPTION:Come worship with us!
URL:https://cpcsebring.org/calendar/sunday-services-4/
LOCATION:Covenant Church
END:VEVENT
BEGIN:VEVENT
DTSTART;TZID=America/Detroit:20260506T170000
DTEND;TZID=America/Detroit:20260506T170000
DTSTAMP:20260422T113417
CREATED:20260414T091202Z
LAST-MODIFIED:20260414T135343Z
UID:393-1778086800-1778086800@cpcsebring.org
SUMMARY:Choir Practice
DESCRIPTION:For any questions\, please contact Rhoda Wolfe at rhoda.e.wolfe@gmail.com
URL:https://cpcsebring.org/calendar/choir-practice-4-2/
LOCATION:Covenant Church
END:VEVENT
BEGIN:VEVENT
DTSTART;TZID=America/Detroit:20260506T180000
DTEND;TZID=America/Detroit:20260506T180000
DTSTAMP:20260422T113417
CREATED:20260414T092115Z
LAST-MODIFIED:20260414T135958Z
UID:432-1778090400-1778090400@cpcsebring.org
SUMMARY:JAM (Jesus and Me)
DESCRIPTION:
URL:https://cpcsebring.org/calendar/jam-jesus-and-me-4/
LOCATION:Covenant Life Center
END:VEVENT
BEGIN:VEVENT
DTSTART;TZID=America/Detroit:20260506T180000
DTEND;TZID=America/Detroit:20260506T180000
DTSTAMP:20260422T113417
CREATED:20260414T092100Z
LAST-MODIFIED:20260414T140116Z
UID:429-1778090400-1778090400@cpcsebring.org
SUMMARY:Covered Dish
DESCRIPTION:Please Bring a dish to share
URL:https://cpcsebring.org/calendar/covered-dish/
LOCATION:Covenant Life Center
END:VEVENT
BEGIN:VEVENT
DTSTART;TZID=America/Detroit:20260506T190000
DTEND;TZID=America/Detroit:20260506T190000
DTSTAMP:20260422T113417
CREATED:20260414T092358Z
LAST-MODIFIED:20260414T140558Z
UID:444-1778094000-1778094000@cpcsebring.org
SUMMARY:Covenant Ringers
DESCRIPTION:The Covenant Ringers\, our new bell ensemble\, rehearses at 7pm till 8pm on Wednesdays in the CLC. \nContact Denise Anderson for info!  andmusic.55@gmail.com \n 
URL:https://cpcsebring.org/calendar/covenant-ringers-5/
LOCATION:Covenant Life Center
END:VEVENT
BEGIN:VEVENT
DTSTART;TZID=America/Detroit:20260507T080000
DTEND;TZID=America/Detroit:20260507T080000
DTSTAMP:20260422T113417
CREATED:20260414T093229Z
LAST-MODIFIED:20260414T140853Z
UID:464-1778140800-1778140800@cpcsebring.org
SUMMARY:Men's Prayer Breakfast & Bible Study
DESCRIPTION:
URL:https://cpcsebring.org/calendar/mens-prayer-breakfast-bible-study-3/
LOCATION:Oscar’s Restaurant\, Oscar's Restaurant\, Sebring\, FL\, 33870\, United States
END:VEVENT
BEGIN:VEVENT
DTSTART;TZID=America/Detroit:20260510T103000
DTEND;TZID=America/Detroit:20260510T103000
DTSTAMP:20260422T113417
CREATED:20260414T091525Z
LAST-MODIFIED:20260414T141149Z
UID:412-1778409000-1778409000@cpcsebring.org
SUMMARY:Sunday Services
DESCRIPTION:Come worship with us!
URL:https://cpcsebring.org/calendar/sunday-services-5/
LOCATION:Covenant Church
END:VEVENT
BEGIN:VEVENT
DTSTART;TZID=America/Detroit:20260513T170000
DTEND;TZID=America/Detroit:20260513T170000
DTSTAMP:20260422T113417
CREATED:20260414T091304Z
LAST-MODIFIED:20260414T135340Z
UID:397-1778691600-1778691600@cpcsebring.org
SUMMARY:Choir Practice
DESCRIPTION:For any questions\, please contact Rhoda Wolfe at rhoda.e.wolfe@gmail.com \n\n\n\n\n\n 
URL:https://cpcsebring.org/calendar/choir-practice-5/
LOCATION:Covenant Church
END:VEVENT
BEGIN:VEVENT
DTSTART;TZID=America/Detroit:20260513T180000
DTEND;TZID=America/Detroit:20260513T180000
DTSTAMP:20260422T113417
CREATED:20260414T092139Z
LAST-MODIFIED:20260414T135954Z
UID:434-1778695200-1778695200@cpcsebring.org
SUMMARY:JAM (Jesus and Me)
DESCRIPTION:
URL:https://cpcsebring.org/calendar/jam-jesus-and-me-5/
LOCATION:Covenant Life Center
END:VEVENT
BEGIN:VEVENT
DTSTART;TZID=America/Detroit:20260513T190000
DTEND;TZID=America/Detroit:20260513T190000
DTSTAMP:20260422T113417
CREATED:20260414T092416Z
LAST-MODIFIED:20260414T140554Z
UID:446-1778698800-1778698800@cpcsebring.org
SUMMARY:Covenant Ringers
DESCRIPTION:The Covenant Ringers\, our new bell ensemble\, rehearses at 7pm till 8pm on Wednesdays in the CLC. \nContact Denise Anderson for info!  andmusic.55@gmail.com \n 
URL:https://cpcsebring.org/calendar/covenant-ringers-6/
LOCATION:Covenant Life Center
END:VEVENT
BEGIN:VEVENT
DTSTART;TZID=America/Detroit:20260517T103000
DTEND;TZID=America/Detroit:20260517T103000
DTSTAMP:20260422T113417
CREATED:20260414T091639Z
LAST-MODIFIED:20260414T141144Z
UID:417-1779013800-1779013800@cpcsebring.org
SUMMARY:Sunday Services
DESCRIPTION:Come worship with us!
URL:https://cpcsebring.org/calendar/sunday-services-6/
LOCATION:Covenant Church
END:VEVENT
BEGIN:VEVENT
DTSTART;TZID=America/Detroit:20260519T161500
DTEND;TZID=America/Detroit:20260519T161500
DTSTAMP:20260422T113417
CREATED:20260414T093204Z
LAST-MODIFIED:20260414T140734Z
UID:462-1779207300-1779207300@cpcsebring.org
SUMMARY:Officer's Meeting
DESCRIPTION:
URL:https://cpcsebring.org/calendar/officers-meeting/
END:VEVENT
BEGIN:VEVENT
DTSTART;TZID=America/Detroit:20260520T170000
DTEND;TZID=America/Detroit:20260520T170000
DTSTAMP:20260422T113417
CREATED:20260414T091408Z
LAST-MODIFIED:20260414T135335Z
UID:404-1779296400-1779296400@cpcsebring.org
SUMMARY:Choir Practice
DESCRIPTION:For any questions\, please contact Rhoda Wolfe at rhoda.e.wolfe@gmail.com \n\n\n\n\n\n 
URL:https://cpcsebring.org/calendar/choir-practice-6/
LOCATION:Covenant Church
END:VEVENT
BEGIN:VEVENT
DTSTART;TZID=America/Detroit:20260520T180000
DTEND;TZID=America/Detroit:20260520T180000
DTSTAMP:20260422T113417
CREATED:20260414T092152Z
LAST-MODIFIED:20260414T135949Z
UID:436-1779300000-1779300000@cpcsebring.org
SUMMARY:JAM (Jesus and Me)
DESCRIPTION:
URL:https://cpcsebring.org/calendar/jam-jesus-and-me-6/
LOCATION:Covenant Life Center
END:VEVENT
BEGIN:VEVENT
DTSTART;TZID=America/Detroit:20260520T190000
DTEND;TZID=America/Detroit:20260520T190000
DTSTAMP:20260422T113417
CREATED:20260414T092424Z
LAST-MODIFIED:20260414T140548Z
UID:448-1779303600-1779303600@cpcsebring.org
SUMMARY:Covenant Ringers
DESCRIPTION:The Covenant Ringers\, our new bell ensemble\, rehearses at 7pm till 8pm on Wednesdays in the CLC. \nContact Denise Anderson for info!  andmusic.55@gmail.com \n 
URL:https://cpcsebring.org/calendar/covenant-ringers-4-2-2-2/
LOCATION:Covenant Life Center
END:VEVENT
BEGIN:VEVENT
DTSTART;TZID=America/Detroit:20260521T080000
DTEND;TZID=America/Detroit:20260521T080000
DTSTAMP:20260422T113417
CREATED:20260414T093312Z
LAST-MODIFIED:20260414T140849Z
UID:466-1779350400-1779350400@cpcsebring.org
SUMMARY:Men's Prayer Breakfast & Bible Study
DESCRIPTION:
URL:https://cpcsebring.org/calendar/mens-prayer-breakfast-bible-study-4/
LOCATION:Oscar’s Restaurant\, Oscar's Restaurant\, Sebring\, FL\, 33870\, United States
END:VEVENT
BEGIN:VEVENT
DTSTART;TZID=America/Detroit:20260524T103000
DTEND;TZID=America/Detroit:20260524T103000
DTSTAMP:20260422T113417
CREATED:20260414T091648Z
LAST-MODIFIED:20260414T141140Z
UID:419-1779618600-1779618600@cpcsebring.org
SUMMARY:Sunday Services
DESCRIPTION:Come worship with us!
URL:https://cpcsebring.org/calendar/sunday-services-7/
LOCATION:Covenant Church
END:VEVENT
BEGIN:VEVENT
DTSTART;TZID=America/Detroit:20260527T170000
DTEND;TZID=America/Detroit:20260527T170000
DTSTAMP:20260422T113417
CREATED:20260414T091413Z
LAST-MODIFIED:20260414T135332Z
UID:406-1779901200-1779901200@cpcsebring.org
SUMMARY:Choir Practice
DESCRIPTION:For any questions\, please contact Rhoda Wolfe at rhoda.e.wolfe@gmail.com \n\n\n\n\n\n 
URL:https://cpcsebring.org/calendar/choir-practice-7/
LOCATION:Covenant Church
END:VEVENT
BEGIN:VEVENT
DTSTART;TZID=America/Detroit:20260527T180000
DTEND;TZID=America/Detroit:20260527T180000
DTSTAMP:20260422T113417
CREATED:20260414T100004Z
LAST-MODIFIED:20260414T135945Z
UID:525-1779904800-1779904800@cpcsebring.org
SUMMARY:JAM (Jesus and Me)
DESCRIPTION:
URL:https://cpcsebring.org/calendar/jam-jesus-and-me-7/
LOCATION:Covenant Life Center
END:VEVENT
BEGIN:VEVENT
DTSTART;TZID=America/Detroit:20260527T190000
DTEND;TZID=America/Detroit:20260527T190000
DTSTAMP:20260422T113417
CREATED:20260414T092432Z
LAST-MODIFIED:20260414T140545Z
UID:450-1779908400-1779908400@cpcsebring.org
SUMMARY:Covenant Ringers
DESCRIPTION:The Covenant Ringers\, our new bell ensemble\, rehearses at 7pm till 8pm on Wednesdays in the CLC. \nContact Denise Anderson for info!  andmusic.55@gmail.com \n 
URL:https://cpcsebring.org/calendar/covenant-ringers-8/
LOCATION:Covenant Life Center
END:VEVENT
BEGIN:VEVENT
DTSTART;TZID=America/Detroit:20260531T103000
DTEND;TZID=America/Detroit:20260531T103000
DTSTAMP:20260422T113417
CREATED:20260414T091657Z
LAST-MODIFIED:20260414T141136Z
UID:421-1780223400-1780223400@cpcsebring.org
SUMMARY:Sunday Services
DESCRIPTION:Come worship with us!
URL:https://cpcsebring.org/calendar/sunday-services-8/
LOCATION:Covenant Church
END:VEVENT
END:VCALENDAR